BEGIN:VCALENDAR
PRODID:-//eluceo/ical//2.0/EN
VERSION:2.0
CALSCALE:GREGORIAN
BEGIN:VEVENT
UID:b0279a0173eb393628744335ef16f067
DTSTAMP:20260424T032709Z
SUMMARY:Private Late Night Shopping 'Sternstunden'
DESCRIPTION:An diesem besonderen Abend öffnen wir exklusiv für eine klein
 e Anzahl angemeldeter Gäste für ein entspanntes Einkaufserlebnis. Erlebe
 n Sie unsere Weihnachtsausstellung in ruhiger und stimmungsvoller Atmosph
 äre.Entdecken Sie festliche Inspirationen\, hochwertige Dekorationen und 
 liebevoll gestaltete Arrangements ganz ohne Hektik. Die Teilnehmerzahl ist
  limitiert\, Anmeldung erforderlich.\n\nKursleitung: \n\nhttps://www.hauen
 stein-rafz.ch/de/service/kurse/5646-Private-Late-Night-Shopping--Sternstun
 den-
DTSTART:20261030T190000
DTEND:20261030T210000
LOCATION:Gartencenter Rafz
END:VEVENT
END:VCALENDAR
